
BEGIN:VCALENDAR
VERSION:2.0
PRODID:-//Turismo San Javier - ECPv6.15.20//NONSGML v1.0//EN
CALSCALE:GREGORIAN
METHOD:PUBLISH
X-WR-CALNAME:Turismo San Javier
X-ORIGINAL-URL:https://turismo.sanjavier.es
X-WR-CALDESC:Eventos para Turismo San Javier
REFRESH-INTERVAL;VALUE=DURATION:PT1H
X-Robots-Tag:noindex
X-PUBLISHED-TTL:PT1H
BEGIN:VTIMEZONE
TZID:Europe/Madrid
BEGIN:DAYLIGHT
TZOFFSETFROM:+0100
TZOFFSETTO:+0200
TZNAME:CEST
DTSTART:20230326T010000
END:DAYLIGHT
BEGIN:STANDARD
TZOFFSETFROM:+0200
TZOFFSETTO:+0100
TZNAME:CET
DTSTART:20231029T010000
END:STANDARD
BEGIN:DAYLIGHT
TZOFFSETFROM:+0100
TZOFFSETTO:+0200
TZNAME:CEST
DTSTART:20240331T010000
END:DAYLIGHT
BEGIN:STANDARD
TZOFFSETFROM:+0200
TZOFFSETTO:+0100
TZNAME:CET
DTSTART:20241027T010000
END:STANDARD
BEGIN:DAYLIGHT
TZOFFSETFROM:+0100
TZOFFSETTO:+0200
TZNAME:CEST
DTSTART:20250330T010000
END:DAYLIGHT
BEGIN:STANDARD
TZOFFSETFROM:+0200
TZOFFSETTO:+0100
TZNAME:CET
DTSTART:20251026T010000
END:STANDARD
END:VTIMEZONE
BEGIN:VEVENT
DTSTART;TZID=Europe/Madrid:20241102T180000
DTEND;TZID=Europe/Madrid:20241102T213000
DTSTAMP:20260424T023327
CREATED:20241029T093849Z
LAST-MODIFIED:20241029T093849Z
UID:19979-1730570400-1730583000@turismo.sanjavier.es
SUMMARY:GALA FEDERACIÓN NATACIÓN REGIÓN DE MURCIA - SAN JAVIER
DESCRIPTION:
URL:https://turismo.sanjavier.es/evento/gala-federacion-natacion-region-de-murcia-san-javier/
LOCATION:Teatro de Invierno\, Plaza Almansa 0\, San javier\, Murcia\, 30730\, España
ATTACH;FMTTYPE=image/jpeg:https://turismo.sanjavier.es/wp-content/uploads/2024/10/PHOTO-2024-10-25-14-14-43-1.jpg
END:VEVENT
BEGIN:VEVENT
DTSTART;TZID=Europe/Madrid:20241103T100000
DTEND;TZID=Europe/Madrid:20241103T140000
DTSTAMP:20260424T023327
CREATED:20241029T114328Z
LAST-MODIFIED:20241029T114328Z
UID:19982-1730628000-1730642400@turismo.sanjavier.es
SUMMARY:MERCADO ARTESANO DEL MAR MENOR
DESCRIPTION:
URL:https://turismo.sanjavier.es/evento/mercado-artesano-del-mar-menor-49/
LOCATION:Explanada Barnuevo\, Paseo Marítimo\, Explanada Barnuevo\, Santiago de la Ribera\, 30720\, España
ATTACH;FMTTYPE=image/jpeg:https://turismo.sanjavier.es/wp-content/uploads/2024/10/CARTEL-LA-RIBERA-3-11-24-1-scaled.jpg
END:VEVENT
BEGIN:VEVENT
DTSTART;TZID=Europe/Madrid:20241107T163000
DTEND;TZID=Europe/Madrid:20241107T193000
DTSTAMP:20260424T023327
CREATED:20241104T074603Z
LAST-MODIFIED:20241104T074603Z
UID:20011-1730997000-1731007800@turismo.sanjavier.es
SUMMARY:EN TU PARQUE O EN EL MÍO - POZO ALEDO
DESCRIPTION:
URL:https://turismo.sanjavier.es/evento/en-tu-parque-o-en-el-mio-pozo-aledo/
LOCATION:Pozo Aledo\, Avenida de Balsicas\, Pozo Aledo\, Murcia\, 30739\, España
ATTACH;FMTTYPE=image/jpeg:https://turismo.sanjavier.es/wp-content/uploads/2024/11/MAYORES-NOVIEMBRE-2024-1.jpg
END:VEVENT
BEGIN:VEVENT
DTSTART;VALUE=DATE:20241108
DTEND;VALUE=DATE:20241109
DTSTAMP:20260424T023327
CREATED:20241030T130608Z
LAST-MODIFIED:20241030T130608Z
UID:19995-1731024000-1731110399@turismo.sanjavier.es
SUMMARY:XXX CONCURSO ORNITOLÓGICO VILLA DE SAN JAVIER
DESCRIPTION:
URL:https://turismo.sanjavier.es/evento/xxx-concurso-ornitologico-villa-de-san-javier/
LOCATION:San Javier\, San Javier\, San Javier\, Murcia\, 30730\, España
ATTACH;FMTTYPE=image/jpeg:https://turismo.sanjavier.es/wp-content/uploads/2024/10/Cartel-concurso-ornitologico-1.jpg
END:VEVENT
BEGIN:VEVENT
DTSTART;TZID=Europe/Madrid:20241109T203000
DTEND;TZID=Europe/Madrid:20241109T233000
DTSTAMP:20260424T023327
CREATED:20240911T094443Z
LAST-MODIFIED:20240911T094443Z
UID:19803-1731184200-1731195000@turismo.sanjavier.es
SUMMARY:DANZA "SU REALISMO" - TEATRO DE INVIERNO SAN JAVIER
DESCRIPTION:[vc_row type=»in_container» full_screen_row_position=»middle» column_margin=»default» scene_position=»center» text_color=»dark» text_align=»left» overlay_strength=»0.3″ shape_divider_position=»bottom» bg_image_animation=»none»][vc_column column_padding=»no-extra-padding» column_padding_position=»all» background_color_opacity=»1″ background_hover_color_opacity=»1″ column_link_target=»_self» column_shadow=»none» column_border_radius=»none» width=»1/1″ tablet_width_inherit=»default» tablet_text_alignment=»default» phone_text_alignment=»default» overlay_strength=»0.3″ column_border_width=»none» column_border_style=»solid» bg_image_animation=»none»][vc_column_text]Espectáculo de danza con la propuesta que la compañía Psico Ballet lleva a los escenarios de medio mundo desde hace años. Se trata de un espectáculo inclusivo\, recomendado por La Red Española de Teatro\, formado por una veintena dE intérpretes con y sin discapacidad. Desde la compañía explican que “Su Realismo”\, es un espectáculo de danza contemporánea que rompe el concepto de belleza a través de un recorrido onírico de imágenes inspiradas en los grandes creadores surrealistas. Un espectáculo que pone de relieve la importancia de la libertad artística y la liberación mental sobre los cánones estéticos y corporales[/vc_column_text][/vc_column][/vc_row]
URL:https://turismo.sanjavier.es/evento/danza-su-realismo-teatro-de-invierno-san-javier/
LOCATION:Teatro de Invierno\, Plaza Almansa 0\, San javier\, Murcia\, 30730\, España
ATTACH;FMTTYPE=image/jpeg:https://turismo.sanjavier.es/wp-content/uploads/2024/09/cartel-otono-teatro-invierno-1.jpg
END:VEVENT
BEGIN:VEVENT
DTSTART;TZID=Europe/Madrid:20241110T100000
DTEND;TZID=Europe/Madrid:20241110T140000
DTSTAMP:20260424T023327
CREATED:20241030T122225Z
LAST-MODIFIED:20241030T122236Z
UID:19992-1731232800-1731247200@turismo.sanjavier.es
SUMMARY:MERCADO ARTESANO DEL MAR MENOR - SANTIAGO DE LA RIBERA
DESCRIPTION:
URL:https://turismo.sanjavier.es/evento/mercado-artesano-del-mar-menor-santiago-de-la-ribera-7/
LOCATION:Explanada Barnuevo\, Paseo Marítimo\, Explanada Barnuevo\, Santiago de la Ribera\, 30720\, España
END:VEVENT
BEGIN:VEVENT
DTSTART;TZID=Europe/Madrid:20241110T100000
DTEND;TZID=Europe/Madrid:20241110T140000
DTSTAMP:20260424T023327
CREATED:20241105T084437Z
LAST-MODIFIED:20241105T084437Z
UID:20015-1731232800-1731247200@turismo.sanjavier.es
SUMMARY:MERCADO ARTESANO DEL MAR MENOR - SANTIAGO DE LA RIBERA
DESCRIPTION:
URL:https://turismo.sanjavier.es/evento/mercado-artesano-del-mar-menor-santiago-de-la-ribera-8/
LOCATION:Explanada Barnuevo\, Paseo Marítimo\, Explanada Barnuevo\, Santiago de la Ribera\, 30720\, España
ATTACH;FMTTYPE=image/jpeg:https://turismo.sanjavier.es/wp-content/uploads/2024/11/Imagen-de-WhatsApp-2024-10-24-a-las-19.39.38_d7db9da8.jpg
END:VEVENT
BEGIN:VEVENT
DTSTART;VALUE=DATE:20241115
DTEND;VALUE=DATE:20241204
DTSTAMP:20260424T023327
CREATED:20241108T094752Z
LAST-MODIFIED:20241108T094752Z
UID:20027-1731628800-1733270399@turismo.sanjavier.es
SUMMARY:XVI RUTA DE LA TAPA - SAN JAVIER
DESCRIPTION:
URL:https://turismo.sanjavier.es/evento/xvi-ruta-de-la-tapa-san-javier/
LOCATION:San Javier\, San Javier\, San Javier\, Murcia\, 30730\, España
ATTACH;FMTTYPE=image/jpeg:https://turismo.sanjavier.es/wp-content/uploads/2024/11/Ruta-Tapa-SJ-2024.jpg
END:VEVENT
BEGIN:VEVENT
DTSTART;VALUE=DATE:20241116
DTEND;VALUE=DATE:20241117
DTSTAMP:20260424T023327
CREATED:20241030T122150Z
LAST-MODIFIED:20241030T122150Z
UID:19988-1731715200-1731801599@turismo.sanjavier.es
SUMMARY:9º OPEN Y EXHIBICIÓN INTERNACIONAL HKD ESPAÑA - SAN JAVIER
DESCRIPTION:
URL:https://turismo.sanjavier.es/evento/9o-open-y-exhibicion-internacional-hkd-espana-san-javier/
LOCATION:Polideportivo Municipal\, Explanada Mariano Rojas\, San Javier\, Murcia\, 30730\, España
ATTACH;FMTTYPE=image/jpeg:https://turismo.sanjavier.es/wp-content/uploads/2024/10/PHOTO-2024-10-09-17-06-02.jpg
END:VEVENT
BEGIN:VEVENT
DTSTART;TZID=Europe/Madrid:20241116T100000
DTEND;TZID=Europe/Madrid:20241116T140000
DTSTAMP:20260424T023327
CREATED:20241105T092510Z
LAST-MODIFIED:20241105T092510Z
UID:20019-1731751200-1731765600@turismo.sanjavier.es
SUMMARY:BIOMARATÓN - LA MANGA DEL MAR MENOR
DESCRIPTION:
URL:https://turismo.sanjavier.es/evento/biomaraton-la-manga-del-mar-menor/
LOCATION:Puente del Estacio\, Gran Vía Km. 13\, La Manga del Mar Menor\, Murcia\, 30370\, España
ATTACH;FMTTYPE=image/jpeg:https://turismo.sanjavier.es/wp-content/uploads/2024/11/biomaraton.jpg
END:VEVENT
BEGIN:VEVENT
DTSTART;VALUE=DATE:20241117
DTEND;VALUE=DATE:20241118
DTSTAMP:20260424T023327
CREATED:20241106T125401Z
LAST-MODIFIED:20241106T125401Z
UID:20022-1731801600-1731887999@turismo.sanjavier.es
SUMMARY:MARCHA CICLISTA POPULAR - SAN JAVIER
DESCRIPTION:[vc_row type=»in_container» full_screen_row_position=»middle» column_margin=»default» scene_position=»center» text_color=»dark» text_align=»left» overlay_strength=»0.3″ shape_divider_position=»bottom» bg_image_animation=»none»][vc_column column_padding=»no-extra-padding» column_padding_position=»all» background_color_opacity=»1″ background_hover_color_opacity=»1″ column_link_target=»_self» column_shadow=»none» column_border_radius=»none» width=»1/1″ tablet_width_inherit=»default» tablet_text_alignment=»default» phone_text_alignment=»default» overlay_strength=»0.3″ column_border_width=»none» column_border_style=»solid» bg_image_animation=»none»][vc_column_text]\nMÁS INFORMACIÓN AQUÍ\n[/vc_column_text][/vc_column][/vc_row]
URL:https://turismo.sanjavier.es/evento/marcha-ciclista-popular-san-javier/
LOCATION:Plaza de España\, Plaza de España\, San Javier\, Murcia\, 30730\, España
ATTACH;FMTTYPE=image/jpeg:https://turismo.sanjavier.es/wp-content/uploads/2024/11/marcha-ciclista-24_Mesa-de-trabajo-1-1536x1063-1.jpg
END:VEVENT
BEGIN:VEVENT
DTSTART;VALUE=DATE:20241118
DTEND;VALUE=DATE:20241121
DTSTAMP:20260424T023327
CREATED:20241114T093718Z
LAST-MODIFIED:20241114T093718Z
UID:20033-1731888000-1732147199@turismo.sanjavier.es
SUMMARY:MÚSICA EN NOVIEMBRE "SANTA CECILIA" - SAN JAVIER
DESCRIPTION:
URL:https://turismo.sanjavier.es/evento/musica-en-noviembre-santa-cecilia-san-javier/
LOCATION:San Javier\, San Javier\, San Javier\, Murcia\, 30730\, España
END:VEVENT
BEGIN:VEVENT
DTSTART;VALUE=DATE:20241122
DTEND;VALUE=DATE:20241124
DTSTAMP:20260424T023327
CREATED:20241115T124126Z
LAST-MODIFIED:20241115T124126Z
UID:20046-1732233600-1732406399@turismo.sanjavier.es
SUMMARY:FIESTAS PATRONALES SAN JAVIER 2024
DESCRIPTION:
URL:https://turismo.sanjavier.es/evento/fiestas-patronales-san-javier-2024/
LOCATION:Murcia
ATTACH;FMTTYPE=image/jpeg:https://turismo.sanjavier.es/wp-content/uploads/2024/11/2.jpg
END:VEVENT
BEGIN:VEVENT
DTSTART;TZID=Europe/Madrid:20241123T090000
DTEND;TZID=Europe/Madrid:20241123T110000
DTSTAMP:20260424T023327
CREATED:20241115T125733Z
LAST-MODIFIED:20241115T130126Z
UID:20077-1732352400-1732359600@turismo.sanjavier.es
SUMMARY:FREE GUIDED TOUR IN SANTIAGO DE LA RIBERA
DESCRIPTION:[vc_row type=»in_container» full_screen_row_position=»middle» column_margin=»default» scene_position=»center» text_color=»dark» text_align=»left» overlay_strength=»0.3″ shape_divider_position=»bottom» bg_image_animation=»none»][vc_column column_padding=»no-extra-padding» column_padding_position=»all» background_color_opacity=»1″ background_hover_color_opacity=»1″ column_link_target=»_self» column_shadow=»none» column_border_radius=»none» width=»1/1″ tablet_width_inherit=»default» tablet_text_alignment=»default» phone_text_alignment=»default» overlay_strength=»0.3″ column_border_width=»none» column_border_style=»solid» bg_image_animation=»none»][vc_column_text]\nBOOK HERE YOUR FREE GUIDED TOUR\n[/vc_column_text][/vc_column][/vc_row]
URL:https://turismo.sanjavier.es/evento/free-guided-tour-in-santiago-de-la-ribera/
LOCATION:oficina de turismo de Santiago de la Ribera\, Calle Padre Juan\, s/n\, Santiago de la Ribera\, Murcia\, 30720\, España
ATTACH;FMTTYPE=image/png:https://turismo.sanjavier.es/wp-content/uploads/2024/07/LARIBERA-ingles.png
END:VEVENT
BEGIN:VEVENT
DTSTART;TZID=Europe/Madrid:20241123T123000
DTEND;TZID=Europe/Madrid:20241123T143000
DTSTAMP:20260424T023327
CREATED:20241115T130316Z
LAST-MODIFIED:20241115T130316Z
UID:20081-1732365000-1732372200@turismo.sanjavier.es
SUMMARY:VISITA GUIADA GRATUITA LA MANGA DEL MAR MENOR
DESCRIPTION:[vc_row type=»in_container» full_screen_row_position=»middle» column_margin=»default» scene_position=»center» text_color=»dark» text_align=»left» overlay_strength=»0.3″ shape_divider_position=»bottom» bg_image_animation=»none»][vc_column column_padding=»no-extra-padding» column_padding_position=»all» background_color_opacity=»1″ background_hover_color_opacity=»1″ column_link_target=»_self» column_shadow=»none» column_border_radius=»none» width=»1/1″ tablet_width_inherit=»default» tablet_text_alignment=»default» phone_text_alignment=»default» overlay_strength=»0.3″ column_border_width=»none» column_border_style=»solid» bg_image_animation=»none»][vc_column_text]\nRESERVA AQUÍ TU VISITA GUIADA\n[/vc_column_text][/vc_column][/vc_row]
URL:https://turismo.sanjavier.es/evento/visita-guiada-gratuita-la-manga-del-mar-menor-17/
LOCATION:Puerto Deportivo Tomás Maestre\, Darsena 0\, Club Náutico\,Puerto Tomás Maestre\, La Manga del Mar Menor\, Murcia\, 30380\, España
ATTACH;FMTTYPE=image/png:https://turismo.sanjavier.es/wp-content/uploads/2024/08/LMNG-espa.png
END:VEVENT
BEGIN:VEVENT
DTSTART;VALUE=DATE:20241124
DTEND;VALUE=DATE:20241125
DTSTAMP:20260424T023327
CREATED:20241030T113514Z
LAST-MODIFIED:20241031T073248Z
UID:19985-1732406400-1732492799@turismo.sanjavier.es
SUMMARY:RUTA DE LAS ERMITAS - SAN JAVIER
DESCRIPTION:[vc_row type=»in_container» full_screen_row_position=»middle» column_margin=»default» scene_position=»center» text_color=»dark» text_align=»left» overlay_strength=»0.3″ shape_divider_position=»bottom» bg_image_animation=»none»][vc_column column_padding=»no-extra-padding» column_padding_position=»all» background_color_opacity=»1″ background_hover_color_opacity=»1″ column_link_target=»_self» column_shadow=»none» column_border_radius=»none» width=»1/1″ tablet_width_inherit=»default» tablet_text_alignment=»default» phone_text_alignment=»default» overlay_strength=»0.3″ column_border_width=»none» column_border_style=»solid» bg_image_animation=»none»][vc_column_text]\nMÁS INFORMACIÓN E INSCRIPCIONES AQUÍ\n  \nDos rutas:\n\n– Larga (26 km\,). Recorrido: San Javier\, Pozo Aledo\, El Mirador\, La Grajuela\, San Blas\, Ciudad del Aire\, Lo Pagan\, La Ribera\, Los Pescadores y San Javier.\n> https://maps.app.goo.gl/Qr14pKGnqffSroy4A\nSalida a las 6:00h desde la Iglesia de San Javier. Se une con los peregrinos de la ruta corta en San Blas.\n\n– Corta (15 km). Recorrido: San Javier\, San Blas\, Ciudad del Aire\, Lo Pagan\, La Ribera\, Los Pescadores y San Javier.\n> https://maps.app.goo.gl/FWsnLbwxGwmNJSFe7\nSalida a las 9:00h desde la Iglesia de San Javier. Se une con los peregrinos de la ruta larga en San Blas.\n\nDonativo para las misiones: 5€\n*Pago a través de Bizum Donativo/ Donar a ONG al  02928 con concepto: RUTA-NOMBRE Y APELLIDO PARTICIPANTE\n[/vc_column_text][/vc_column][/vc_row]
URL:https://turismo.sanjavier.es/evento/ruta-de-las-ermitas-san-javier/
LOCATION:Iglesia de San Javier\, Plaza España\, San Javier\, murcia\, 30730\, España
ATTACH;FMTTYPE=image/jpeg:https://turismo.sanjavier.es/wp-content/uploads/2024/10/thumbnail_PHOTO-2024-10-28-13-15-57.jpg
END:VEVENT
BEGIN:VEVENT
DTSTART;VALUE=DATE:20241124
DTEND;VALUE=DATE:20241126
DTSTAMP:20260424T023327
CREATED:20241114T093820Z
LAST-MODIFIED:20241114T093820Z
UID:20036-1732406400-1732579199@turismo.sanjavier.es
SUMMARY:MÚSICA EN NOVIEMBRE "SANTA CECILIA" - SAN JAVIER
DESCRIPTION:
URL:https://turismo.sanjavier.es/evento/musica-en-noviembre-santa-cecilia-san-javier-2/
LOCATION:San Javier\, San Javier\, San Javier\, Murcia\, 30730\, España
ATTACH;FMTTYPE=image/jpeg:https://turismo.sanjavier.es/wp-content/uploads/2024/11/Cartel-Santa-Ceciclia-Conservatorio-.jpg
END:VEVENT
BEGIN:VEVENT
DTSTART;VALUE=DATE:20241124
DTEND;VALUE=DATE:20241125
DTSTAMP:20260424T023327
CREATED:20241115T124319Z
LAST-MODIFIED:20241115T124319Z
UID:20049-1732406400-1732492799@turismo.sanjavier.es
SUMMARY:FIESTAS PATRONALES SAN JAVIER 2024
DESCRIPTION:
URL:https://turismo.sanjavier.es/evento/fiestas-patronales-san-javier-2024-2/
LOCATION:Murcia
ATTACH;FMTTYPE=image/jpeg:https://turismo.sanjavier.es/wp-content/uploads/2024/11/3.jpg
END:VEVENT
BEGIN:VEVENT
DTSTART;TZID=Europe/Madrid:20241124T100000
DTEND;TZID=Europe/Madrid:20241124T140000
DTSTAMP:20260424T023327
CREATED:20241114T095408Z
LAST-MODIFIED:20241114T095408Z
UID:20043-1732442400-1732456800@turismo.sanjavier.es
SUMMARY:CAMPEONATO DE CALICHE - SAN JAVIER
DESCRIPTION:
URL:https://turismo.sanjavier.es/evento/campeonato-de-caliche-san-javier/
LOCATION:San Javier\, San Javier\, San Javier\, Murcia\, 30730\, España
ATTACH;FMTTYPE=image/jpeg:https://turismo.sanjavier.es/wp-content/uploads/2024/11/PHOTO-2024-11-12-09-34-10-1.jpg
END:VEVENT
BEGIN:VEVENT
DTSTART;VALUE=DATE:20241127
DTEND;VALUE=DATE:20241128
DTSTAMP:20260424T023327
CREATED:20241114T094005Z
LAST-MODIFIED:20241114T094005Z
UID:20038-1732665600-1732751999@turismo.sanjavier.es
SUMMARY:MÚSICA EN NOVIEBMRE "SANTA CECILIA" - SAN JAVIER
DESCRIPTION:
URL:https://turismo.sanjavier.es/evento/musica-en-noviebmre-santa-cecilia-san-javier/
LOCATION:San Javier\, San Javier\, San Javier\, Murcia\, 30730\, España
ATTACH;FMTTYPE=image/jpeg:https://turismo.sanjavier.es/wp-content/uploads/2024/11/Cartel-Santa-Ceciclia-Conservatorio-.jpg
END:VEVENT
BEGIN:VEVENT
DTSTART;VALUE=DATE:20241129
DTEND;VALUE=DATE:20241130
DTSTAMP:20260424T023327
CREATED:20241115T125141Z
LAST-MODIFIED:20241115T125141Z
UID:20075-1732838400-1732924799@turismo.sanjavier.es
SUMMARY:FIESTAS PATRONALES SAN JAVIER 2024
DESCRIPTION:
URL:https://turismo.sanjavier.es/evento/fiestas-patronales-san-javier-2024-10/
LOCATION:Murcia
ATTACH;FMTTYPE=image/jpeg:https://turismo.sanjavier.es/wp-content/uploads/2024/11/4.jpg
END:VEVENT
BEGIN:VEVENT
DTSTART;VALUE=DATE:20241130
DTEND;VALUE=DATE:20241201
DTSTAMP:20260424T023327
CREATED:20241024T092506Z
LAST-MODIFIED:20241024T092506Z
UID:19951-1732924800-1733011199@turismo.sanjavier.es
SUMMARY:CAMPEONATO DE PARCHIS - SAN JAVIER
DESCRIPTION:[vc_row type=»in_container» full_screen_row_position=»middle» column_margin=»default» scene_position=»center» text_color=»dark» text_align=»left» overlay_strength=»0.3″ shape_divider_position=»bottom» bg_image_animation=»none»][vc_column column_padding=»no-extra-padding» column_padding_position=»all» background_color_opacity=»1″ background_hover_color_opacity=»1″ column_link_target=»_self» column_shadow=»none» column_border_radius=»none» width=»1/1″ tablet_width_inherit=»default» tablet_text_alignment=»default» phone_text_alignment=»default» overlay_strength=»0.3″ column_border_width=»none» column_border_style=»solid» bg_image_animation=»none»][vc_column_text]\nCon el comienzo este miércoles 23 de octubre del tradicional campeonato de parchís\, se siente ya en el ambiente\, entre las aficionadas y aficionados de San Javier\, el calentamiento previo a las fiestas en honor al patrón de San Francisco Javier.\nLa cita es en el salón de actividades múltiples del edificio de juventud a las 21:30 h. Se precisa inscripción previa.\nDía 30 de noviembre MARATÓN DE PARCHÍS.\n[/vc_column_text][/vc_column][/vc_row]
URL:https://turismo.sanjavier.es/evento/campeonato-de-parchis-san-javier/
LOCATION:Casa de la Juventud\, Av. Aviación Española\, 10\, San Javier\, Murcia\, 30730\, España
ATTACH;FMTTYPE=image/jpeg:https://turismo.sanjavier.es/wp-content/uploads/2024/10/Cartel-PARCHIS.jpeg
END:VEVENT
BEGIN:VEVENT
DTSTART;VALUE=DATE:20241130
DTEND;VALUE=DATE:20241202
DTSTAMP:20260424T023327
CREATED:20241024T092803Z
LAST-MODIFIED:20241024T092803Z
UID:19954-1732924800-1733097599@turismo.sanjavier.es
SUMMARY:24 H FÚTBOL SALA - SAN JAVIER
DESCRIPTION:[vc_row type=»in_container» full_screen_row_position=»middle» column_margin=»default» scene_position=»center» text_color=»dark» text_align=»left» overlay_strength=»0.3″ shape_divider_position=»bottom» bg_image_animation=»none»][vc_column column_padding=»no-extra-padding» column_padding_position=»all» background_color_opacity=»1″ background_hover_color_opacity=»1″ column_link_target=»_self» column_shadow=»none» column_border_radius=»none» width=»1/1″ tablet_width_inherit=»default» tablet_text_alignment=»default» phone_text_alignment=»default» overlay_strength=»0.3″ column_border_width=»none» column_border_style=»solid» bg_image_animation=»none»][vc_column_text]\nMÁS INFORMACIÓN AQUÍ\n[/vc_column_text][/vc_column][/vc_row]
URL:https://turismo.sanjavier.es/evento/24-h-futbol-sala-san-javier/
LOCATION:Polideportivo Municipal\, Explanada Mariano Rojas\, San Javier\, Murcia\, 30730\, España
ATTACH;FMTTYPE=image/jpeg:https://turismo.sanjavier.es/wp-content/uploads/2024/10/PHOTO-2024-10-18-11-38-01.jpg
END:VEVENT
BEGIN:VEVENT
DTSTART;VALUE=DATE:20241130
DTEND;VALUE=DATE:20241201
DTSTAMP:20260424T023327
CREATED:20241024T092933Z
LAST-MODIFIED:20241024T093211Z
UID:19957-1732924800-1733011199@turismo.sanjavier.es
SUMMARY:IN TEMPO SAN JAVIER FEST VOL. 5 - SAN JAVIER
DESCRIPTION:
URL:https://turismo.sanjavier.es/evento/in-tempo-san-javier-fest-vol-5-san-javier/
LOCATION:Carpa Municipal\, Calle Halcón\, San Javier\, Murcia\, 30730\, España
ATTACH;FMTTYPE=image/jpeg:https://turismo.sanjavier.es/wp-content/uploads/2024/10/in-tempo.jpg
END:VEVENT
BEGIN:VEVENT
DTSTART;VALUE=DATE:20241130
DTEND;VALUE=DATE:20241201
DTSTAMP:20260424T023327
CREATED:20241115T124426Z
LAST-MODIFIED:20241115T124426Z
UID:20061-1732924800-1733011199@turismo.sanjavier.es
SUMMARY:FIESTAS PATRONALES SAN JAVIER 2024
DESCRIPTION:
URL:https://turismo.sanjavier.es/evento/fiestas-patronales-san-javier-2024-3/
LOCATION:Murcia
ATTACH;FMTTYPE=image/jpeg:https://turismo.sanjavier.es/wp-content/uploads/2024/11/5.jpg
END:VEVENT
BEGIN:VEVENT
DTSTART;TZID=Europe/Madrid:20241130T093000
DTEND;TZID=Europe/Madrid:20241130T113000
DTSTAMP:20260424T023327
CREATED:20241115T130440Z
LAST-MODIFIED:20241115T130440Z
UID:20083-1732959000-1732966200@turismo.sanjavier.es
SUMMARY:VISITA GUIADA GRATUITA SAN JAVIER
DESCRIPTION:[vc_row type=»in_container» full_screen_row_position=»middle» column_margin=»default» scene_position=»center» text_color=»dark» text_align=»left» overlay_strength=»0.3″ shape_divider_position=»bottom» bg_image_animation=»none»][vc_column column_padding=»no-extra-padding» column_padding_position=»all» background_color_opacity=»1″ background_hover_color_opacity=»1″ column_link_target=»_self» column_shadow=»none» column_border_radius=»none» width=»1/1″ tablet_width_inherit=»default» tablet_text_alignment=»default» phone_text_alignment=»default» overlay_strength=»0.3″ column_border_width=»none» column_border_style=»solid» bg_image_animation=»none»][vc_column_text]\nRESERVA AQUÍ TU VISITA GUIADA\n[/vc_column_text][/vc_column][/vc_row]
URL:https://turismo.sanjavier.es/evento/visita-guiada-gratuita-san-javier-21/
LOCATION:Museo de San Javier\, Avenida Pinatar 23\, San Javier\, Murcia\, 30730\, España
ATTACH;FMTTYPE=image/jpeg:https://turismo.sanjavier.es/wp-content/uploads/2024/08/San-Javier.pdf.jpg
END:VEVENT
END:VCALENDAR